BEGIN:VCALENDAR
VERSION:2.0
PRODID:-//Small Hands Big Hearts United - ECPv6.15.20//NONSGML v1.0//EN
CALSCALE:GREGORIAN
METHOD:PUBLISH
X-WR-CALNAME:Small Hands Big Hearts United
X-ORIGINAL-URL:https://www.shbhu.org
X-WR-CALDESC:Events for Small Hands Big Hearts United
REFRESH-INTERVAL;VALUE=DURATION:PT1H
X-Robots-Tag:noindex
X-PUBLISHED-TTL:PT1H
BEGIN:VTIMEZONE
TZID:UTC
BEGIN:STANDARD
TZOFFSETFROM:+0000
TZOFFSETTO:+0000
TZNAME:UTC
DTSTART:20230101T000000
END:STANDARD
END:VTIMEZONE
BEGIN:VEVENT
DTSTART;TZID=UTC:20241010T080000
DTEND;TZID=UTC:20250109T170000
DTSTAMP:20260426T000901
CREATED:20240503T213937Z
LAST-MODIFIED:20241208T204923Z
UID:6064-1728547200-1736442000@www.shbhu.org
SUMMARY:SHBHU  "Bookshelves of Love" Compassion Mission
DESCRIPTION:SHBHU “Bookshelves of Love” Compassion Mission \n\n\nThe SHBHU Ambassadors have now built20 bookshelves!!!  They are interested in building MORE bookshelves during 2025 for our compassion mission with Habitat for Humanity and Read and Feed. We are waiting to hear back from Habitat for Humanity on the dates of the next home dedications. Read and Feed has ALSO now received 8 bookshelves as well and is very excited to partner with us in compassion missions in 2025. Stay tuned for more updates on this exciting mission! Let us know if you want to help continue to grow this mission as well over the upcoming holidays and into 2025!
URL:https://www.shbhu.org/event/new-2024-bookshelves-of-love-compassion-mission-copy/
ATTACH;FMTTYPE=image/jpeg:https://www.shbhu.org/wp-content/uploads/2024/12/E4.jpg
END:VEVENT
END:VCALENDAR