BEGIN:VCALENDAR
VERSION:2.0
PRODID:-//Small Hands Big Hearts United - ECPv6.15.20//NONSGML v1.0//EN
CALSCALE:GREGORIAN
METHOD:PUBLISH
X-WR-CALNAME:Small Hands Big Hearts United
X-ORIGINAL-URL:https://www.shbhu.org
X-WR-CALDESC:Events for Small Hands Big Hearts United
REFRESH-INTERVAL;VALUE=DURATION:PT1H
X-Robots-Tag:noindex
X-PUBLISHED-TTL:PT1H
BEGIN:VTIMEZONE
TZID:UTC
BEGIN:STANDARD
TZOFFSETFROM:+0000
TZOFFSETTO:+0000
TZNAME:UTC
DTSTART:20230101T000000
END:STANDARD
END:VTIMEZONE
BEGIN:VEVENT
DTSTART;TZID=UTC:20241201T081500
DTEND;TZID=UTC:20250222T113000
DTSTAMP:20260425T151852
CREATED:20241208T205925Z
LAST-MODIFIED:20241208T212020Z
UID:6179-1733040900-1740223800@www.shbhu.org
SUMMARY:Warming Helpful Hearts BUILD DAY for Habitat for Humanity Compassion Mission   FEB 22nd 2025!
DESCRIPTION:The SHBHU Warming Helpful Hearts AMBASSADORS 16 and older OFFCIALLY have a Habitat for Humanity of Wake County BUILD DAY on Saturday\, February 22nd 2025 8:15am-11:30am We are also hoping to have the opportunity again for the younger Ambassadors and Small Handers to be able to pass out muffins\, coffee and hot cocoa to the volunteers in the morning like in the past! The link BELOW says we have 5 RESERVATION SLOTS BUT once we begin filling those we fill definitely add more.\nLocation: Old Poole Place (4425 Dedication Dr\, Raleigh\, NC)\n\n\nALL AMBASSADORS 16 and older\, parents and friends use this link ONLY for the SHBHU group bulid day registration:\nCLICK HERE\n\n\nPlease review the following thoroughly: If you have not volunteered with Habitat for Humanity of Wake County previously\, you will first need to create an account in our system. Please ONLY use this link above and not register directly though the Habitat Wake website.
URL:https://www.shbhu.org/event/warming-helpful-hearts-build-day-compassion-mission-feb-22nd-2025/
ATTACH;FMTTYPE=image/jpeg:https://www.shbhu.org/wp-content/uploads/2024/12/WHH6.jpg
END:VEVENT
BEGIN:VEVENT
DTSTART;TZID=UTC:20250101T080000
DTEND;TZID=UTC:20250228T120000
DTSTAMP:20260425T151852
CREATED:20241208T201916Z
LAST-MODIFIED:20250107T212119Z
UID:6149-1735718400-1740744000@www.shbhu.org
SUMMARY:SHBHU "Sunrise for Senior Citizens and their Pet Companions Breakfast Bags of Love" 
DESCRIPTION:SHBHU “Breakfast Bags of Love” \n\nAmbassadors would like to know if y0u can help pack and decorate these breakfast bags for our Senior Citizens in need and their pet compasions in our community.\n\nDid you know that ¼ of Senior Citizens live alone with their pet as their only companion? Animal companionship is proven to be a powerful relationship that prevents depression and loneliness. However\, as people age\, caring for an animal can become more difficult physically and financially. These bags we call “breakfast bags of love” not only include food to start their day but also include food for their pet companion. When Senior Citizens are looked out for and receive proper nutrition\, they can care for their animal companions in the way they deserve.  Each of these bags (and donations for their pet companions) contained a morning meal that hopefully takes a little pressure off these Senior Citizens in need.  This community is often overlooked and often does not want to be a burden. It can be easy to think a Senior Citizen is doing fine when they are not. While a colorful snack bag can’t solve all the problems the elderly are facing\, it can put a smile on their face and assure that they are seen and that someone cares for them. If you are interested in helping with this Compassion Mission please contact Ambassador Mia at info@shbhu.org. \n\nWe need donations or you can volunteer to pack and decorate bags in your own home or you can volunteer to deliver the bags to Meals on Wheels when they are completed.  We will be packing all month at home and also hopefully having another Compassion Meeting in FEBRUARY to pack and decorate bags as well.  We also need a Delivery Family to volunteer to bring bags to MOW in Raleigh WEEK OF JANUARY 27th. Please contact us if interested at info@shbhu.org\n\n\n\nSHBHU Meals on Wheels Route in the works!  Email us at info@shbhu.org if interested in helping out with this route. Your Small Handers and Ambassadors can deliver the Breakfast Bags of Love DIRECTLY to our Senior Citizens.\n\nLet us know if you would also be able to pack\, decoreate or make the delivery JANUARY AT HOME!\n\n\n     
URL:https://www.shbhu.org/event/meals-on-wheels-breakfast-bags-of-love-compasssion-mission-copy-copy-copy-2-copy-copy-copy-copy-copy-copy-2-copy-copy-copy-copy-copy-copy-copy/
ATTACH;FMTTYPE=image/jpeg:https://www.shbhu.org/wp-content/uploads/2024/12/meg4.jpg
ORGANIZER;CN="Anita Pease":MAILTO:anita@shbhu.oprg
END:VEVENT
END:VCALENDAR