BEGIN:VCALENDAR
VERSION:2.0
PRODID:-//Small Hands Big Hearts United - ECPv6.15.20//NONSGML v1.0//EN
CALSCALE:GREGORIAN
METHOD:PUBLISH
X-WR-CALNAME:Small Hands Big Hearts United
X-ORIGINAL-URL:https://www.shbhu.org
X-WR-CALDESC:Events for Small Hands Big Hearts United
REFRESH-INTERVAL;VALUE=DURATION:PT1H
X-Robots-Tag:noindex
X-PUBLISHED-TTL:PT1H
BEGIN:VTIMEZONE
TZID:UTC
BEGIN:STANDARD
TZOFFSETFROM:+0000
TZOFFSETTO:+0000
TZNAME:UTC
DTSTART:20150101T000000
END:STANDARD
END:VTIMEZONE
BEGIN:VTIMEZONE
TZID:America/New_York
BEGIN:DAYLIGHT
TZOFFSETFROM:-0500
TZOFFSETTO:-0400
TZNAME:EDT
DTSTART:20150308T070000
END:DAYLIGHT
BEGIN:STANDARD
TZOFFSETFROM:-0400
TZOFFSETTO:-0500
TZNAME:EST
DTSTART:20151101T060000
END:STANDARD
BEGIN:DAYLIGHT
TZOFFSETFROM:-0500
TZOFFSETTO:-0400
TZNAME:EDT
DTSTART:20160313T070000
END:DAYLIGHT
BEGIN:STANDARD
TZOFFSETFROM:-0400
TZOFFSETTO:-0500
TZNAME:EST
DTSTART:20161106T060000
END:STANDARD
BEGIN:DAYLIGHT
TZOFFSETFROM:-0500
TZOFFSETTO:-0400
TZNAME:EDT
DTSTART:20170312T070000
END:DAYLIGHT
BEGIN:STANDARD
TZOFFSETFROM:-0400
TZOFFSETTO:-0500
TZNAME:EST
DTSTART:20171105T060000
END:STANDARD
END:VTIMEZONE
BEGIN:VEVENT
DTSTART;TZID=UTC:20160226T173000
DTEND;TZID=UTC:20160226T193000
DTSTAMP:20260420T025018
CREATED:20160115T021333Z
LAST-MODIFIED:20160115T124030Z
UID:2473-1456507800-1456515000@www.shbhu.org
SUMMARY:Hats & Hugs for Haiti: Loom Baby Hats
DESCRIPTION:Come to the Hearts and Hugs Across Boards Compassion Mission to loom hats for the babies in Hait for the Hope for Haiti Midwife Project. All looming supplies and instructions will be provided. No experience is needed\, just compassion for others. \nThe Small Handers and Ambassadors will also be collecting supplies for our friend Kim Sniffen who is a midwife traveling to Haiti in December to deliver babies there. Below is a list of supplies we will be collecting that evening: \n\nString for Cord Ties\nAlcohol Pads (Packs)\n4 x 4 Gauze Pads\nSmall Bars of Soap\nChux Underpads\nOne Size Fits All or Medium Medical Gloves\n\n 
URL:https://www.shbhu.org/event/hats-hugs-for-haiti-loom-baby-hats/
LOCATION:Lead Family’s House\, address to be emailed to registrant
ATTACH;FMTTYPE=image/jpeg:https://www.shbhu.org/wp-content/uploads/2016/01/Looming.jpg
END:VEVENT
BEGIN:VEVENT
DTSTART;TZID=UTC:20160225T180000
DTEND;TZID=UTC:20160225T190000
DTSTAMP:20260420T025018
CREATED:20160115T025246Z
LAST-MODIFIED:20160116T045114Z
UID:2485-1456423200-1456426800@www.shbhu.org
SUMMARY:Family Meeting: Small Handers & Ambassadors
DESCRIPTION:SHBHU welcomes family\, Small Handers and Ambassadors to our monthly meeting. Ambassadors and Small Handers will meet separately to discuss past events and to plan upcoming ones. All attendees are encouraged to speak freely and contribute in ways they feel comfortable. \nThe SHBHU monthly meeting is held on the 4th Thursday of each month.
URL:https://www.shbhu.org/event/family-meeting-small-handers-ambassadors/
LOCATION:Calvary Chapel\, 7710 Chapel Hill Rd\, Raleigh\, NC\, 27607\, United States
ATTACH;FMTTYPE=image/jpeg:https://www.shbhu.org/wp-content/uploads/2016/01/meetingevent.jpg
END:VEVENT
BEGIN:VEVENT
DTSTART;TZID=UTC:20160221T130000
DTEND;TZID=UTC:20160221T143000
DTSTAMP:20260420T025018
CREATED:20160102T002409Z
LAST-MODIFIED:20160116T221021Z
UID:1748-1456059600-1456065000@www.shbhu.org
SUMMARY:Serving at Oak City Outreach
DESCRIPTION:Come and join SHBHU in this compassion mission to help serve meals to those in the Downtown Raleigh area at the Oak City Outreach Center (OCOC). OCOC is the outcome of the continual efforts to provide food assistance to individuals who are experiencing homelessness and/or lack of food on a daily basis in downtown Raleigh. Their goal is to help “close the hunger gap together.” SHBHU has partnered with OCOC to help serve meals on the third Sunday of every month. Please arrive at 1:00 PM to help set up food that will e served from 1:30-2:15 and then clean up until 2:30 PM.  We will be serving food that is generously donated by another organization. However SHBHU would like to supplement this meal with beverages\, dessert\, and paper products. Once registration is full\, a sign up with items needed will be emailed to you.
URL:https://www.shbhu.org/event/serving-at-oak-city-outreach-3/
LOCATION:Oak City Cares\, 1430 S Wilmington St\, Raleigh\, NC\, 27603\, United States
ATTACH;FMTTYPE=image/jpeg:https://www.shbhu.org/wp-content/uploads/2016/01/OCOC.jpg
END:VEVENT
BEGIN:VEVENT
DTSTART;TZID=UTC:20160218T170000
DTEND;TZID=UTC:20160218T190000
DTSTAMP:20260420T025018
CREATED:20160115T024610Z
LAST-MODIFIED:20160115T094039Z
UID:2480-1455814800-1455822000@www.shbhu.org
SUMMARY:Family Night and Ambassador Meet & Greet
DESCRIPTION:Ambassador Meet & Greet will be help between 5:00 pm – 7:00 pm. Come\, join us\, learn all about what the Ambassadors and Small Handers have on the calendar for 2016! \nCalifornia Pizza Kitchen is donating a percentage of sales from the ENTIRE DAY to SHBHU! Show them the flyer below (printed or on your phone) to show them you are part of the SHBHU family!
URL:https://www.shbhu.org/event/california-pizza-kitchen-family-night-ambassador-meet-greet/
LOCATION:California Pizza Kitchen – Streets of Southpoint Mall\, 6910 Fayetteville Rd\, Suite 154\, Durham\, NC\, 27713\, United States
ATTACH;FMTTYPE=image/jpeg:https://www.shbhu.org/wp-content/uploads/2016/01/CPK.jpg
END:VEVENT
BEGIN:VEVENT
DTSTART;TZID=UTC:20160213T103000
DTEND;TZID=UTC:20160213T114500
DTSTAMP:20260420T025018
CREATED:20160101T231910Z
LAST-MODIFIED:20160116T220945Z
UID:1733-1455359400-1455363900@www.shbhu.org
SUMMARY:Chapter Cheer at Ronald McDonald House
DESCRIPTION:Create crafts and read stories with children at the Ronald McDonald House.  The children at the House are siblings of kids receiving care at nearby hospitals.  This event is limited to a total of 6 adults and kids. \nUpon signing up\, you will be contacted by a “Teen Ambassador” or member of the SHBHU Leadership Team to help you plan your activity. \nFor all SHBHU activities\, children are encouraged to take the lead role in brainstorming\, planning and volunteering.
URL:https://www.shbhu.org/event/chapter-cheer-at-ronald-mcdonald-house/
LOCATION:Ronald McDonald House\, 101 Old Mason Farm Road\, Chapel Hill\, NC\, 27517\, United States
ATTACH;FMTTYPE=image/jpeg:https://www.shbhu.org/wp-content/uploads/2015/12/RMH.jpg
ORGANIZER;CN="Patti Tiernan":MAILTO:patti@shbhu.org
END:VEVENT
BEGIN:VEVENT
DTSTART;TZID=UTC:20160128T180000
DTEND;TZID=UTC:20160128T190000
DTSTAMP:20260420T025018
CREATED:20160115T015720Z
LAST-MODIFIED:20160622T022207Z
UID:2469-1454004000-1454007600@www.shbhu.org
SUMMARY:Family Meeting: CANCELLED
DESCRIPTION:SHBHU welcomes family\, small handers and ambassadors to our monthly meeting. Ambassadors and Small Handers will meet separately to discuss past events and to plan upcoming ones. All attendees are encouraged to speak freely and contribute in ways they feel comfortable. \nThe SHBHU monthly meeting is held on the 4th Thursday of each month.
URL:https://www.shbhu.org/event/monthly-family-meeting-for-small-handers-and-ambassadors/
LOCATION:Calvary Chapel Raleigh – 7710 Chapel Hill Rd\, Raleigh\, NC 27607
CATEGORIES:Meetings,Monthly Meetings
ATTACH;FMTTYPE=image/jpeg:https://www.shbhu.org/wp-content/uploads/2016/01/meetingevent.jpg
END:VEVENT
BEGIN:VEVENT
DTSTART;TZID=UTC:20160117T130000
DTEND;TZID=UTC:20160117T143000
DTSTAMP:20260420T025018
CREATED:20160102T001930Z
LAST-MODIFIED:20160116T220909Z
UID:1744-1453035600-1453041000@www.shbhu.org
SUMMARY:Serving at Oak City Outreach
DESCRIPTION:Come and join SHBHU in this compassion mission to help serve meals to those in the Downtown Raleigh area at the Oak City Outreach Center (OCOC). OCOC is the outcome of the continual efforts to provide food assistance to individuals who are experiencing homelessness and/or lack of food on a daily basis in downtown Raleigh. Their goal is to help “close the hunger gap together.” SHBHU has partnered with OCOC to help serve meals on the third Sunday of every month. Please arrive at 1:00 PM to help set up food that will e served from 1:30-2:15 and then clean up until 2:30 PM.  We will be serving food that is generously donated by another organization. However SHBHU would like to supplement this meal with beverages\, dessert\, and paper products. Once registration is full\, a sign up with items needed will be emailed to you.
URL:https://www.shbhu.org/event/serving-at-oak-city-outreach/
LOCATION:Oak City Cares\, 1430 S Wilmington St\, Raleigh\, NC\, 27603\, United States
ATTACH;FMTTYPE=image/jpeg:https://www.shbhu.org/wp-content/uploads/2016/01/OCOC.jpg
ORGANIZER;CN="Patti Tiernan":MAILTO:patti@shbhu.org
END:VEVENT
BEGIN:VEVENT
DTSTART;TZID=America/New_York:20160109T103000
DTEND;TZID=America/New_York:20160109T114500
DTSTAMP:20260420T025018
CREATED:20151229T030146Z
LAST-MODIFIED:20160116T220841Z
UID:1637-1452335400-1452339900@www.shbhu.org
SUMMARY:Chapter Cheer at Ronald McDonald House
DESCRIPTION:Create crafts and read stories with children at the Ronald McDonald House.  The children at the House are siblings of kids receiving care at nearby hospitals.  This event is limited to a total of 6 adults and kids. \nUpon signing up\, you will be contacted by a “Teen Ambassador” or member of the SHBHU Leadership Team to help you plan your activity. \nFor all SHBHU activities\, children are encouraged to take the lead role in brainstorming\, planning and volunteering.
URL:https://www.shbhu.org/event/shbhu-chapter-cheer-at-ronald-mcdonald-house-in-chapel-hill/
LOCATION:Ronald McDonald House\, 101 Old Mason Farm Road\, Chapel Hill\, NC\, 27517\, United States
ATTACH;FMTTYPE=image/jpeg:https://www.shbhu.org/wp-content/uploads/2015/12/RMH.jpg
ORGANIZER;CN="Patti Tiernan":MAILTO:patti@shbhu.org
END:VEVENT
END:VCALENDAR