BEGIN:VCALENDAR
VERSION:2.0
PRODID:-//Small Hands Big Hearts United - ECPv6.15.20//NONSGML v1.0//EN
CALSCALE:GREGORIAN
METHOD:PUBLISH
X-ORIGINAL-URL:https://www.shbhu.org
X-WR-CALDESC:Events for Small Hands Big Hearts United
REFRESH-INTERVAL;VALUE=DURATION:PT1H
X-Robots-Tag:noindex
X-PUBLISHED-TTL:PT1H
BEGIN:VTIMEZONE
TZID:UTC
BEGIN:STANDARD
TZOFFSETFROM:+0000
TZOFFSETTO:+0000
TZNAME:UTC
DTSTART:20230101T000000
END:STANDARD
END:VTIMEZONE
BEGIN:VEVENT
DTSTART;TZID=UTC:20241010T080000
DTEND;TZID=UTC:20250109T170000
DTSTAMP:20260425T211029
CREATED:20240503T213937Z
LAST-MODIFIED:20241208T204923Z
UID:6064-1728547200-1736442000@www.shbhu.org
SUMMARY:SHBHU  "Bookshelves of Love" Compassion Mission
DESCRIPTION:SHBHU “Bookshelves of Love” Compassion Mission \n\n\nThe SHBHU Ambassadors have now built20 bookshelves!!!  They are interested in building MORE bookshelves during 2025 for our compassion mission with Habitat for Humanity and Read and Feed. We are waiting to hear back from Habitat for Humanity on the dates of the next home dedications. Read and Feed has ALSO now received 8 bookshelves as well and is very excited to partner with us in compassion missions in 2025. Stay tuned for more updates on this exciting mission! Let us know if you want to help continue to grow this mission as well over the upcoming holidays and into 2025!
URL:https://www.shbhu.org/event/new-2024-bookshelves-of-love-compassion-mission-copy/
ATTACH;FMTTYPE=image/jpeg:https://www.shbhu.org/wp-content/uploads/2024/12/E4.jpg
END:VEVENT
BEGIN:VEVENT
DTSTART;TZID=UTC:20241115T080000
DTEND;TZID=UTC:20241115T120000
DTSTAMP:20260425T211029
CREATED:20241025T160130Z
LAST-MODIFIED:20241025T161101Z
UID:6123-1731657600-1731672000@www.shbhu.org
SUMMARY:SHBHU "Sunrise for Senior Citizens and their Pet Companions Breakfast Bags of Love"  Copy
DESCRIPTION:SHBHU “Breakfast Bags of Love” \n\nAmbassadors would like to know if y0u can help pack and decorate these breakfast bags for our Senior Citizens in need and their pet compasions in our community.\n\nDid you know that ¼ of Senior Citizens live alone with their pet as their only companion? Animal companionship is proven to be a powerful relationship that prevents depression and loneliness. However\, as people age\, caring for an animal can become more difficult physically and financially. These bags we call “breakfast bags of love” not only include food to start their day but also include food for their pet companion. When Senior Citizens are looked out for and receive proper nutrition\, they can care for their animal companions in the way they deserve.  Each of these bags (and donations for their pet companions) contained a morning meal that hopefully takes a little pressure off these Senior Citizens in need.  This community is often overlooked and often does not want to be a burden. It can be easy to think a Senior Citizen is doing fine when they are not. While a colorful snack bag can’t solve all the problems the elderly are facing\, it can put a smile on their face and assure that they are seen and that someone cares for them. If you are interested in helping with this Compassion Mission please contact Ambassador Mia at info@shbhu.org. \n\nWe need donations which you can order at the SHBHU AMAZON wish list link below\, you can volunteer to pack and decorate bags in your own home or you can volunteer to deliver the bags to Meals on Wheels when they are completed.  We will be packing all month at home and also hopefully having another Compassion Meeting in November to pack and decorate bags as well.  We also need a Delivery Family to volunteer to bring bags to MOW in Raleigh second week in November. Please contact us if interested at info@shbhu.org\n\n\n\nSHBHU Meals on Wheels Route in the works!  Email us at info@shbhu.org if interested in helping out with this route. Your Small Handers and Ambassadors can deliver the Breakfast Bags of Love DIRECTLY to our Senior Citizens.\n\nLet us know if you would also be able to pack\, decoreate or make the delivery in November as well to the MOW headquarters in Raleigh. \nAMAZON WISH LIST\nhttps://smile.amazon.com/hz/wishlist/dl/invite/aTW7tg5?ref_=wl_share\n\n\n\n  
URL:https://www.shbhu.org/event/meals-on-wheels-breakfast-bags-of-love-compasssion-mission-copy-copy-copy-2-copy-copy-copy-copy-copy-copy-2-copy-copy-copy-copy-copy-copy/
ATTACH;FMTTYPE=image/jpeg:https://www.shbhu.org/wp-content/uploads/2024/10/MealsTOny.jpg
ORGANIZER;CN="Anita Pease":MAILTO:anita@shbhu.oprg
END:VEVENT
BEGIN:VEVENT
DTSTART;TZID=UTC:20241120T180000
DTEND;TZID=UTC:20241120T190000
DTSTAMP:20260425T211029
CREATED:20241208T200924Z
LAST-MODIFIED:20241208T200924Z
UID:6140-1732125600-1732129200@www.shbhu.org
SUMMARY:Quarterly Compassion Meeting Nov 20th - All are welcome!
DESCRIPTION:Quarterly Compassion Meeting TONIGHT!\n\n\nALL AGES WELCOME!\nNov 20th 6-7pm\nStarts promptly!\nLocation: In Kind Sponsor Smith Douglas Homes Office 3412 Apex Peakway Apex NC\n\n\nCompassion Meeting Activites:\n-Heater Collection Drive for Western NC families\n-Sorting and filling Holiday Hearts Western NC Angel Gift Boxes\n-Sorting and filling 9th ANNUAL Holiday Dove Dominican Republic holiday bags\n-Decorating and packing Holiday Sunrise for Seniors and their pets Breakfast bags of Love\n\n\nPresentation by Ambassador Teens on:\n-Holiday Bookshelves of Love BUILD DAY for Read and Feed\n-Serving Smiles for OCC\n-Flip out for Skylar\n\n\nAll are welcome!
URL:https://www.shbhu.org/event/quarterly-compassion-meeting-nov-20th-all-are-welcome/
ATTACH;FMTTYPE=image/jpeg:https://www.shbhu.org/wp-content/uploads/2022/05/MOW-meetingJPEG.jpg
END:VEVENT
BEGIN:VEVENT
DTSTART;TZID=UTC:20241125T080000
DTEND;TZID=UTC:20241207T170000
DTSTAMP:20260425T211029
CREATED:20241208T201451Z
LAST-MODIFIED:20241208T202623Z
UID:6145-1732521600-1733590800@www.shbhu.org
SUMMARY:9th ANNUAL Holiday Dove Bags for Dove Youth Development Center
DESCRIPTION:9th annual Holiday Bags of Love fo Dove Youth Development in Dominican Republic\nSHBHU has received 156 specific names and ages of children At Dove Youth Development who could also use some kindness over the holidays. Please help us fill any number of these holiday bags with any of the suggested items below before December 7th Thank you to one of our Platinum Sponsors Carimus for helping us with shipping cost this year! Love our community.\n\n\n-Toothbrush/ Toothpaste\n-Craft Items (i.e String bead bracelet kits)\n-Deck of Cards / Pack of dice\n-Sun Catchers / Cross Stitch\n-Fun multi color pens\n-Small Journals / /Mechanical pencils only\n-Cool Sunglasses\n-Candy\n-Games / Toys / Deck of card/ Inflatable balls\n-Hair accessories\, lotion\, nail polish
URL:https://www.shbhu.org/event/9th-annual-holiday-dove-bags-for-dove-youth-development-center/
ATTACH;FMTTYPE=image/jpeg:https://www.shbhu.org/wp-content/uploads/2024/01/Dovedove2.jpeg
END:VEVENT
BEGIN:VEVENT
DTSTART;TZID=UTC:20241125T080000
DTEND;TZID=UTC:20241215T170000
DTSTAMP:20260425T211029
CREATED:20241208T201756Z
LAST-MODIFIED:20241208T201756Z
UID:6147-1732521600-1734282000@www.shbhu.org
SUMMARY:Holiday Compassion Missions!
DESCRIPTION:Holiday Service Opportunities for your Ambassadors and Small Handers! Let us know if you can help in any way. Message below or email us at info@shbhu.org. Accessible SHBHU drop locatiions available for donation drop offs!\n\n\n\nWinter Hat and Gloves Collection Drive for our neighbors in Western NC and Serving Smiles at Oak City Cares in downtown Raleigh Please drop off before Dec 15th at any SHBHU drop off location. Message for addresses.\n\nPlease donate heaters and new or gently used hats and gloves before December 15th.\n\n\n\nHoliday Angel Tree Gift Boxes for Western NC\nSHBHU has been given the name of 5 brothers ranging from elementary to high school ages who experienced great loss during Hurricane Helene. They need some kindness over the holidays. Please consider donating any items these brothers have specifically asked for before December 3rd. Preferred new but will accept gently used as well. Message us for list ot items.
URL:https://www.shbhu.org/event/holiday-compassion-missions/
ATTACH;FMTTYPE=image/jpeg:https://www.shbhu.org/wp-content/uploads/2024/12/hats.jpg
END:VEVENT
BEGIN:VEVENT
DTSTART;TZID=UTC:20241125T120000
DTEND;TZID=UTC:20241125T163000
DTSTAMP:20260425T211029
CREATED:20241208T201204Z
LAST-MODIFIED:20250325T200232Z
UID:6141-1732536000-1732552200@www.shbhu.org
SUMMARY:Building Bookshelves of Love in Chapel Hill with East Chapel Hill Ambassadors! All are welcome!
DESCRIPTION:
URL:https://www.shbhu.org/event/building-bookshelves-of-love-in-chapel-hill-with-east-chapel-hill-ambassadors-all-are-welcome/
LOCATION:YMCA Meadowmont
ATTACH;FMTTYPE=image/png:https://www.shbhu.org/wp-content/uploads/2024/12/Bookflyer.png
END:VEVENT
END:VCALENDAR